Package: DART Version: 1.50.0 Command: rm -rf DART.buildbin-libdir && mkdir DART.buildbin-libdir && /Users/biocbuild/BBS/utils/build-universal.sh DART_1.50.0.tar.gz /Library/Frameworks/R.framework/Resources/bin/R DART.buildbin-libdir StartedAt: 2024-04-18 08:55:57 -0400 (Thu, 18 Apr 2024) EndedAt: 2024-04-18 08:56:03 -0400 (Thu, 18 Apr 2024) EllapsedTime: 5.6 seconds RetCode: 0 Status: OK PackageFile: DART_1.50.0.tgz PackageFileSize: 2.027 MiB