Package: DAPAR Version: 1.34.6 Command: /Library/Frameworks/R.framework/Resources/bin/R CMD check --install=check:DAPAR.install-out.txt --library=/Library/Frameworks/R.framework/Resources/library --no-vignettes --timings DAPAR_1.34.6.tar.gz StartedAt: 2024-04-17 11:06:11 -0400 (Wed, 17 Apr 2024) EndedAt: 2024-04-17 11:12:43 -0400 (Wed, 17 Apr 2024) EllapsedTime: 392.6 seconds RetCode: 0 Status: OK CheckDir: DAPAR.Rcheck Warnings: 0