Package: DAPAR Version: 1.34.6 Command: rm -rf DAPAR.buildbin-libdir && mkdir DAPAR.buildbin-libdir && /Users/biocbuild/BBS/utils/build-universal.sh DAPAR_1.34.6.tar.gz /Library/Frameworks/R.framework/Resources/bin/R DAPAR.buildbin-libdir StartedAt: 2024-04-18 08:55:57 -0400 (Thu, 18 Apr 2024) EndedAt: 2024-04-18 08:56:30 -0400 (Thu, 18 Apr 2024) EllapsedTime: 32.9 seconds RetCode: 0 Status: OK PackageFile: DAPAR_1.34.6.tgz PackageFileSize: 686.5 KiB