Package: CytoPipeline Version: 1.2.0 Command: /Library/Frameworks/R.framework/Resources/bin/R CMD INSTALL CytoPipeline StartedAt: 2024-04-16 11:37:21 -0400 (Tue, 16 Apr 2024) EndedAt: 2024-04-16 11:37:40 -0400 (Tue, 16 Apr 2024) EllapsedTime: 18.4 seconds RetCode: 0 Status: OK