Package: CytoPipeline Version: 1.2.0 Command: /Library/Frameworks/R.framework/Resources/bin/R CMD check --install=check:CytoPipeline.install-out.txt --library=/Library/Frameworks/R.framework/Resources/library --no-vignettes --timings CytoPipeline_1.2.0.tar.gz StartedAt: 2024-04-17 10:58:20 -0400 (Wed, 17 Apr 2024) EndedAt: 2024-04-17 11:03:15 -0400 (Wed, 17 Apr 2024) EllapsedTime: 295.2 seconds RetCode: 0 Status: OK CheckDir: CytoPipeline.Rcheck Warnings: 0