Package: CyTOFpower Version: 1.8.0 Command: /Library/Frameworks/R.framework/Resources/bin/R CMD INSTALL CyTOFpower StartedAt: 2024-04-16 12:48:22 -0400 (Tue, 16 Apr 2024) EndedAt: 2024-04-16 12:48:29 -0400 (Tue, 16 Apr 2024) EllapsedTime: 7.2 seconds RetCode: 0 Status: OK