Package: CyTOFpower Version: 1.8.0 Command: /Library/Frameworks/R.framework/Resources/bin/R CMD build --keep-empty-dirs --no-resave-data CyTOFpower StartedAt: 2024-04-16 16:28:41 -0400 (Tue, 16 Apr 2024) EndedAt: 2024-04-16 16:28:51 -0400 (Tue, 16 Apr 2024) EllapsedTime: 10.4 seconds RetCode: 0 Status: OK PackageFile: CyTOFpower_1.8.0.tar.gz PackageFileSize: 312.2 KiB