Package: CompoundDb Version: 1.6.0 Command: /Library/Frameworks/R.framework/Resources/bin/R CMD INSTALL CompoundDb StartedAt: 2024-04-16 12:33:39 -0400 (Tue, 16 Apr 2024) EndedAt: 2024-04-16 12:34:03 -0400 (Tue, 16 Apr 2024) EllapsedTime: 24.2 seconds RetCode: 0 Status: OK