Package: ComPrAn Version: 1.10.0 Command: /Library/Frameworks/R.framework/Resources/bin/R CMD check --install=check:ComPrAn.install-out.txt --library=/Library/Frameworks/R.framework/Resources/library --no-vignettes --timings ComPrAn_1.10.0.tar.gz StartedAt: 2024-04-17 09:58:19 -0400 (Wed, 17 Apr 2024) EndedAt: 2024-04-17 09:59:25 -0400 (Wed, 17 Apr 2024) EllapsedTime: 66.1 seconds RetCode: 0 Status: OK CheckDir: ComPrAn.Rcheck Warnings: 0