Package: ComPrAn Version: 1.10.0 Command: /Library/Frameworks/R.framework/Resources/bin/R CMD build --keep-empty-dirs --no-resave-data ComPrAn StartedAt: 2024-04-16 15:59:37 -0400 (Tue, 16 Apr 2024) EndedAt: 2024-04-16 16:00:01 -0400 (Tue, 16 Apr 2024) EllapsedTime: 23.8 seconds RetCode: 0 Status: OK PackageFile: ComPrAn_1.10.0.tar.gz PackageFileSize: 3.35 MiB