Package: CoRegNet Version: 1.40.0 Command: /Library/Frameworks/R.framework/Resources/bin/R CMD INSTALL CoRegNet StartedAt: 2024-04-16 11:27:45 -0400 (Tue, 16 Apr 2024) EndedAt: 2024-04-16 11:28:00 -0400 (Tue, 16 Apr 2024) EllapsedTime: 14.5 seconds RetCode: 0 Status: OK