Package: Clonality Version: 1.50.0 Command: /Library/Frameworks/R.framework/Resources/bin/R CMD INSTALL Clonality StartedAt: 2024-04-16 10:03:09 -0400 (Tue, 16 Apr 2024) EndedAt: 2024-04-16 10:03:14 -0400 (Tue, 16 Apr 2024) EllapsedTime: 5.0 seconds RetCode: 0 Status: OK