Package: CiteFuse Version: 1.14.0 Command: rm -rf CiteFuse.buildbin-libdir && mkdir CiteFuse.buildbin-libdir && /Users/biocbuild/BBS/utils/build-universal.sh CiteFuse_1.14.0.tar.gz /Library/Frameworks/R.framework/Resources/bin/R CiteFuse.buildbin-libdir StartedAt: 2024-03-07 08:06:06 -0500 (Thu, 07 Mar 2024) EndedAt: 2024-03-07 08:07:16 -0500 (Thu, 07 Mar 2024) EllapsedTime: 70.4 seconds RetCode: 0 Status: OK PackageFile: CiteFuse_1.14.0.tgz PackageFileSize: 3.38 MiB