Package: CircSeqAlignTk Version: 1.4.0 Command: /Library/Frameworks/R.framework/Resources/bin/R CMD check --install=check:CircSeqAlignTk.install-out.txt --library=/Library/Frameworks/R.framework/Resources/library --no-vignettes --timings CircSeqAlignTk_1.4.0.tar.gz StartedAt: 2024-04-17 09:07:58 -0400 (Wed, 17 Apr 2024) EndedAt: 2024-04-17 09:15:01 -0400 (Wed, 17 Apr 2024) EllapsedTime: 423.1 seconds RetCode: 0 Status: OK CheckDir: CircSeqAlignTk.Rcheck Warnings: 0