Package: ChromSCape Version: 1.12.0 Command: rm -rf ChromSCape.buildbin-libdir && mkdir ChromSCape.buildbin-libdir && /Users/biocbuild/BBS/utils/build-universal.sh ChromSCape_1.12.0.tar.gz /Library/Frameworks/R.framework/Resources/bin/R ChromSCape.buildbin-libdir StartedAt: 2024-04-18 08:39:31 -0400 (Thu, 18 Apr 2024) EndedAt: 2024-04-18 08:40:56 -0400 (Thu, 18 Apr 2024) EllapsedTime: 85.6 seconds RetCode: 0 Status: OK PackageFile: ChromSCape_1.12.0.tgz PackageFileSize: 5.788 MiB