Package: Chicago Version: 1.30.0 Command: /Library/Frameworks/R.framework/Resources/bin/R CMD build --keep-empty-dirs --no-resave-data Chicago StartedAt: 2024-04-16 15:11:15 -0400 (Tue, 16 Apr 2024) EndedAt: 2024-04-16 15:13:04 -0400 (Tue, 16 Apr 2024) EllapsedTime: 108.7 seconds RetCode: 0 Status: OK PackageFile: Chicago_1.30.0.tar.gz PackageFileSize: 1.21 MiB