Package: ChIPseeker Version: 1.38.0 Command: /Library/Frameworks/R.framework/Resources/bin/R CMD check --install=check:ChIPseeker.install-out.txt --library=/Library/Frameworks/R.framework/Resources/library --no-vignettes --timings ChIPseeker_1.38.0.tar.gz StartedAt: 2024-04-17 08:49:45 -0400 (Wed, 17 Apr 2024) EndedAt: 2024-04-17 09:11:24 -0400 (Wed, 17 Apr 2024) EllapsedTime: 1299.3 seconds RetCode: 0 Status: OK CheckDir: ChIPseeker.Rcheck Warnings: 0