Package: ChIPseeker Version: 1.38.0 Command: rm -rf ChIPseeker.buildbin-libdir && mkdir ChIPseeker.buildbin-libdir && /Users/biocbuild/BBS/utils/build-universal.sh ChIPseeker_1.38.0.tar.gz /Library/Frameworks/R.framework/Resources/bin/R ChIPseeker.buildbin-libdir StartedAt: 2024-04-18 08:38:14 -0400 (Thu, 18 Apr 2024) EndedAt: 2024-04-18 08:39:27 -0400 (Thu, 18 Apr 2024) EllapsedTime: 73.0 seconds RetCode: 0 Status: OK PackageFile: ChIPseeker_1.38.0.tgz PackageFileSize: 7.302 MiB