Package: ChIPanalyser Version: 1.24.0 Command: /Library/Frameworks/R.framework/Resources/bin/R CMD check --install=check:ChIPanalyser.install-out.txt --library=/Library/Frameworks/R.framework/Resources/library --no-vignettes --timings ChIPanalyser_1.24.0.tar.gz StartedAt: 2024-04-17 08:42:25 -0400 (Wed, 17 Apr 2024) EndedAt: 2024-04-17 08:49:35 -0400 (Wed, 17 Apr 2024) EllapsedTime: 429.3 seconds RetCode: 0 Status: OK CheckDir: ChIPanalyser.Rcheck Warnings: 0