Package: ChIPanalyser Version: 1.24.0 Command: /Library/Frameworks/R.framework/Resources/bin/R CMD build --keep-empty-dirs --no-resave-data ChIPanalyser StartedAt: 2024-04-16 15:12:27 -0400 (Tue, 16 Apr 2024) EndedAt: 2024-04-16 15:31:36 -0400 (Tue, 16 Apr 2024) EllapsedTime: 1149.1 seconds RetCode: 0 Status: OK PackageFile: ChIPanalyser_1.24.0.tar.gz PackageFileSize: 1.118 MiB