Package: CexoR Version: 1.40.0 Command: /Library/Frameworks/R.framework/Resources/bin/R CMD INSTALL CexoR StartedAt: 2024-04-16 10:54:38 -0400 (Tue, 16 Apr 2024) EndedAt: 2024-04-16 10:55:25 -0400 (Tue, 16 Apr 2024) EllapsedTime: 47.1 seconds RetCode: 0 Status: OK