Package: Cepo Version: 1.8.0 Command: /Library/Frameworks/R.framework/Resources/bin/R CMD INSTALL Cepo StartedAt: 2024-04-16 10:41:44 -0400 (Tue, 16 Apr 2024) EndedAt: 2024-04-16 10:42:29 -0400 (Tue, 16 Apr 2024) EllapsedTime: 44.5 seconds RetCode: 0 Status: OK