Package: CelliD Version: 1.10.1 Command: /Library/Frameworks/R.framework/Resources/bin/R CMD build --keep-empty-dirs --no-resave-data CelliD StartedAt: 2024-04-16 14:58:22 -0400 (Tue, 16 Apr 2024) EndedAt: 2024-04-16 15:12:27 -0400 (Tue, 16 Apr 2024) EllapsedTime: 845.4 seconds RetCode: 0 Status: OK PackageFile: CelliD_1.10.1.tar.gz PackageFileSize: 2.639 MiB