Package: CellNOptR Version: 1.48.0 Command: /Library/Frameworks/R.framework/Resources/bin/R CMD check --install=check:CellNOptR.install-out.txt --library=/Library/Frameworks/R.framework/Resources/library --no-vignettes --timings CellNOptR_1.48.0.tar.gz StartedAt: 2024-04-17 08:26:57 -0400 (Wed, 17 Apr 2024) EndedAt: 2024-04-17 08:29:08 -0400 (Wed, 17 Apr 2024) EllapsedTime: 131.0 seconds RetCode: 0 Status: OK CheckDir: CellNOptR.Rcheck Warnings: 0