Package: CellMapper Version: 1.28.0 Command: /Library/Frameworks/R.framework/Resources/bin/R CMD build --keep-empty-dirs --no-resave-data CellMapper StartedAt: 2024-04-16 14:59:04 -0400 (Tue, 16 Apr 2024) EndedAt: 2024-04-16 15:01:48 -0400 (Tue, 16 Apr 2024) EllapsedTime: 163.3 seconds RetCode: 0 Status: OK PackageFile: CellMapper_1.28.0.tar.gz PackageFileSize: 205.6 KiB