Package: CellBarcode Version: 1.8.1 Command: /Library/Frameworks/R.framework/Resources/bin/R CMD check --install=check:CellBarcode.install-out.txt --library=/Library/Frameworks/R.framework/Resources/library --no-vignettes --timings CellBarcode_1.8.1.tar.gz StartedAt: 2024-04-17 08:20:23 -0400 (Wed, 17 Apr 2024) EndedAt: 2024-04-17 08:25:33 -0400 (Wed, 17 Apr 2024) EllapsedTime: 310.8 seconds RetCode: 0 Status: OK CheckDir: CellBarcode.Rcheck Warnings: 0