Package: CellBarcode Version: 1.8.1 Command: /Library/Frameworks/R.framework/Resources/bin/R CMD build --keep-empty-dirs --no-resave-data CellBarcode StartedAt: 2024-04-16 14:56:11 -0400 (Tue, 16 Apr 2024) EndedAt: 2024-04-16 14:57:59 -0400 (Tue, 16 Apr 2024) EllapsedTime: 108.4 seconds RetCode: 0 Status: OK PackageFile: CellBarcode_1.8.1.tar.gz PackageFileSize: 3.118 MiB