Package: CardinalIO Version: 1.0.0 Command: /Library/Frameworks/R.framework/Resources/bin/R CMD build --keep-empty-dirs --no-resave-data CardinalIO StartedAt: 2024-04-16 14:47:17 -0400 (Tue, 16 Apr 2024) EndedAt: 2024-04-16 14:47:47 -0400 (Tue, 16 Apr 2024) EllapsedTime: 29.8 seconds RetCode: 0 Status: OK PackageFile: CardinalIO_1.0.0.tar.gz PackageFileSize: 961.6 KiB