Package: CTdata Version: 1.2.0 Command: /Library/Frameworks/R.framework/Resources/bin/R CMD check --install=check:CTdata.install-out.txt --library=/Library/Frameworks/R.framework/Resources/library --no-vignettes --timings CTdata_1.2.0.tar.gz StartedAt: 2024-04-17 10:42:58 -0400 (Wed, 17 Apr 2024) EndedAt: 2024-04-17 10:46:02 -0400 (Wed, 17 Apr 2024) EllapsedTime: 183.4 seconds RetCode: 0 Status: OK CheckDir: CTdata.Rcheck Warnings: 0