Package: CSSQ Version: 1.14.0 Command: /Library/Frameworks/R.framework/Resources/bin/R CMD check --install=check:CSSQ.install-out.txt --library=/Library/Frameworks/R.framework/Resources/library --no-vignettes --timings CSSQ_1.14.0.tar.gz StartedAt: 2024-04-17 10:39:17 -0400 (Wed, 17 Apr 2024) EndedAt: 2024-04-17 10:44:17 -0400 (Wed, 17 Apr 2024) EllapsedTime: 300.0 seconds RetCode: 0 Status: OK CheckDir: CSSQ.Rcheck Warnings: 0