Package: CSSQ Version: 1.14.0 Command: /Library/Frameworks/R.framework/Resources/bin/R CMD build --keep-empty-dirs --no-resave-data CSSQ StartedAt: 2024-04-16 16:24:22 -0400 (Tue, 16 Apr 2024) EndedAt: 2024-04-16 16:25:41 -0400 (Tue, 16 Apr 2024) EllapsedTime: 79.2 seconds RetCode: 0 Status: OK PackageFile: CSSQ_1.14.0.tar.gz PackageFileSize: 866 KiB