Package: CSSQ Version: 1.14.0 Command: rm -rf CSSQ.buildbin-libdir && mkdir CSSQ.buildbin-libdir && /Users/biocbuild/BBS/utils/build-universal.sh CSSQ_1.14.0.tar.gz /Library/Frameworks/R.framework/Resources/bin/R CSSQ.buildbin-libdir StartedAt: 2024-04-18 08:52:05 -0400 (Thu, 18 Apr 2024) EndedAt: 2024-04-18 08:53:01 -0400 (Thu, 18 Apr 2024) EllapsedTime: 55.8 seconds RetCode: 0 Status: OK PackageFile: CSSQ_1.14.0.tgz PackageFileSize: 924.6 KiB