Package: CSSP Version: 1.40.0 Command: /Library/Frameworks/R.framework/Resources/bin/R CMD build --keep-empty-dirs --no-resave-data CSSP StartedAt: 2024-04-16 16:24:14 -0400 (Tue, 16 Apr 2024) EndedAt: 2024-04-16 16:24:22 -0400 (Tue, 16 Apr 2024) EllapsedTime: 8.1 seconds RetCode: 1 Status: ERROR PackageFile: None PackageFileSize: NA