Package: CRImage Version: 1.50.0 Command: /Library/Frameworks/R.framework/Resources/bin/R CMD INSTALL CRImage StartedAt: 2024-04-16 12:09:45 -0400 (Tue, 16 Apr 2024) EndedAt: 2024-04-16 12:09:58 -0400 (Tue, 16 Apr 2024) EllapsedTime: 12.7 seconds RetCode: 0 Status: OK