Package: CRImage Version: 1.50.0 Command: /Library/Frameworks/R.framework/Resources/bin/R CMD build --keep-empty-dirs --no-resave-data CRImage StartedAt: 2024-04-16 16:17:47 -0400 (Tue, 16 Apr 2024) EndedAt: 2024-04-16 16:18:17 -0400 (Tue, 16 Apr 2024) EllapsedTime: 30.6 seconds RetCode: 0 Status: OK PackageFile: CRImage_1.50.0.tar.gz PackageFileSize: 7.651 MiB