Package: CRImage Version: 1.50.0 Command: rm -rf CRImage.buildbin-libdir && mkdir CRImage.buildbin-libdir && /Users/biocbuild/BBS/utils/build-universal.sh CRImage_1.50.0.tar.gz /Library/Frameworks/R.framework/Resources/bin/R CRImage.buildbin-libdir StartedAt: 2024-04-18 08:49:46 -0400 (Thu, 18 Apr 2024) EndedAt: 2024-04-18 08:50:04 -0400 (Thu, 18 Apr 2024) EllapsedTime: 17.9 seconds RetCode: 0 Status: OK PackageFile: CRImage_1.50.0.tgz PackageFileSize: 6.549 MiB