Package: COSNet Version: 1.36.0 Command: /Library/Frameworks/R.framework/Resources/bin/R CMD build --keep-empty-dirs --no-resave-data COSNet StartedAt: 2024-04-16 16:13:50 -0400 (Tue, 16 Apr 2024) EndedAt: 2024-04-16 16:15:51 -0400 (Tue, 16 Apr 2024) EllapsedTime: 120.8 seconds RetCode: 0 Status: OK PackageFile: COSNet_1.36.0.tar.gz PackageFileSize: 519.8 KiB