Package: CORREP Version: 1.68.0 Command: /Library/Frameworks/R.framework/Resources/bin/R CMD INSTALL CORREP StartedAt: 2024-04-16 10:08:23 -0400 (Tue, 16 Apr 2024) EndedAt: 2024-04-16 10:08:25 -0400 (Tue, 16 Apr 2024) EllapsedTime: 2.9 seconds RetCode: 0 Status: OK