Package: CORREP Version: 1.68.0 Command: /Library/Frameworks/R.framework/Resources/bin/R CMD build --keep-empty-dirs --no-resave-data CORREP StartedAt: 2024-04-16 16:08:43 -0400 (Tue, 16 Apr 2024) EndedAt: 2024-04-16 16:08:59 -0400 (Tue, 16 Apr 2024) EllapsedTime: 15.7 seconds RetCode: 0 Status: OK PackageFile: CORREP_1.68.0.tar.gz PackageFileSize: 355.4 KiB