Package: COHCAP Version: 1.48.0 Command: /Library/Frameworks/R.framework/Resources/bin/R CMD INSTALL COHCAP StartedAt: 2024-04-16 10:07:41 -0400 (Tue, 16 Apr 2024) EndedAt: 2024-04-16 10:08:05 -0400 (Tue, 16 Apr 2024) EllapsedTime: 24.0 seconds RetCode: 0 Status: OK