Package: COHCAP Version: 1.48.0 Command: /Library/Frameworks/R.framework/Resources/bin/R CMD build --keep-empty-dirs --no-resave-data COHCAP StartedAt: 2024-04-16 15:50:46 -0400 (Tue, 16 Apr 2024) EndedAt: 2024-04-16 15:51:21 -0400 (Tue, 16 Apr 2024) EllapsedTime: 35.1 seconds RetCode: 0 Status: OK PackageFile: COHCAP_1.48.0.tar.gz PackageFileSize: 236.1 KiB