Package: COHCAP Version: 1.48.0 Command: rm -rf COHCAP.buildbin-libdir && mkdir COHCAP.buildbin-libdir && /Users/biocbuild/BBS/utils/build-universal.sh COHCAP_1.48.0.tar.gz /Library/Frameworks/R.framework/Resources/bin/R COHCAP.buildbin-libdir StartedAt: 2024-04-18 08:45:08 -0400 (Thu, 18 Apr 2024) EndedAt: 2024-04-18 08:45:42 -0400 (Thu, 18 Apr 2024) EllapsedTime: 34.2 seconds RetCode: 0 Status: OK PackageFile: COHCAP_1.48.0.tgz PackageFileSize: 424.2 KiB