Package: CODEX Version: 1.34.0 Command: /Library/Frameworks/R.framework/Resources/bin/R CMD INSTALL CODEX StartedAt: 2024-04-16 10:53:12 -0400 (Tue, 16 Apr 2024) EndedAt: 2024-04-16 10:53:53 -0400 (Tue, 16 Apr 2024) EllapsedTime: 41.6 seconds RetCode: 0 Status: OK