Package: CODEX Version: 1.34.0 Command: rm -rf CODEX.buildbin-libdir && mkdir CODEX.buildbin-libdir && /Users/biocbuild/BBS/utils/build-universal.sh CODEX_1.34.0.tar.gz /Library/Frameworks/R.framework/Resources/bin/R CODEX.buildbin-libdir StartedAt: 2024-04-18 08:44:28 -0400 (Thu, 18 Apr 2024) EndedAt: 2024-04-18 08:45:19 -0400 (Thu, 18 Apr 2024) EllapsedTime: 51.3 seconds RetCode: 0 Status: OK PackageFile: CODEX_1.34.0.tgz PackageFileSize: 1.381 MiB