Package: CNVrd2 Version: 1.40.0 Command: /Library/Frameworks/R.framework/Resources/bin/R CMD INSTALL CNVrd2 StartedAt: 2024-04-16 11:16:30 -0400 (Tue, 16 Apr 2024) EndedAt: 2024-04-16 11:17:23 -0400 (Tue, 16 Apr 2024) EllapsedTime: 52.9 seconds RetCode: 0 Status: OK