Package: CNTools Version: 1.58.0 Command: /Library/Frameworks/R.framework/Resources/bin/R CMD build --keep-empty-dirs --no-resave-data CNTools StartedAt: 2024-04-16 15:43:07 -0400 (Tue, 16 Apr 2024) EndedAt: 2024-04-16 15:43:45 -0400 (Tue, 16 Apr 2024) EllapsedTime: 38.5 seconds RetCode: 0 Status: OK PackageFile: CNTools_1.58.0.tar.gz PackageFileSize: 958.6 KiB