Package: CNORode Version: 1.44.0 Command: /Library/Frameworks/R.framework/Resources/bin/R CMD INSTALL CNORode StartedAt: 2024-04-16 11:25:49 -0400 (Tue, 16 Apr 2024) EndedAt: 2024-04-16 11:26:08 -0400 (Tue, 16 Apr 2024) EllapsedTime: 19.2 seconds RetCode: 0 Status: OK