Package: CNORode Version: 1.44.0 Command: /Library/Frameworks/R.framework/Resources/bin/R CMD check --install=check:CNORode.install-out.txt --library=/Library/Frameworks/R.framework/Resources/library --no-vignettes --timings CNORode_1.44.0.tar.gz StartedAt: 2024-04-17 09:32:18 -0400 (Wed, 17 Apr 2024) EndedAt: 2024-04-17 09:33:35 -0400 (Wed, 17 Apr 2024) EllapsedTime: 76.6 seconds RetCode: 0 Status: WARNINGS CheckDir: CNORode.Rcheck Warnings: 1