Package: CNORode Version: 1.44.0 Command: /Library/Frameworks/R.framework/Resources/bin/R CMD build --keep-empty-dirs --no-resave-data CNORode StartedAt: 2024-04-16 15:42:50 -0400 (Tue, 16 Apr 2024) EndedAt: 2024-04-16 15:44:26 -0400 (Tue, 16 Apr 2024) EllapsedTime: 95.5 seconds RetCode: 0 Status: OK PackageFile: CNORode_1.44.0.tar.gz PackageFileSize: 726.4 KiB