Package: CNORode Version: 1.44.0 Command: rm -rf CNORode.buildbin-libdir && mkdir CNORode.buildbin-libdir && /Users/biocbuild/BBS/utils/build-universal.sh CNORode_1.44.0.tar.gz /Library/Frameworks/R.framework/Resources/bin/R CNORode.buildbin-libdir StartedAt: 2024-04-18 08:43:23 -0400 (Thu, 18 Apr 2024) EndedAt: 2024-04-18 08:43:50 -0400 (Thu, 18 Apr 2024) EllapsedTime: 26.9 seconds RetCode: 0 Status: OK PackageFile: CNORode_1.44.0.tgz PackageFileSize: 637 KiB